BEGIN:VCALENDAR
VERSION:2.0
PRODID:-//Canyons District - ECPv6.15.18//NONSGML v1.0//EN
CALSCALE:GREGORIAN
METHOD:PUBLISH
X-WR-CALNAME:Canyons District
X-ORIGINAL-URL:https://canyons.ocbsa.org
X-WR-CALDESC:Events for Canyons District
REFRESH-INTERVAL;VALUE=DURATION:PT1H
X-Robots-Tag:noindex
X-PUBLISHED-TTL:PT1H
BEGIN:VTIMEZONE
TZID:America/Los_Angeles
BEGIN:DAYLIGHT
TZOFFSETFROM:-0800
TZOFFSETTO:-0700
TZNAME:PDT
DTSTART:20250309T100000
END:DAYLIGHT
BEGIN:STANDARD
TZOFFSETFROM:-0700
TZOFFSETTO:-0800
TZNAME:PST
DTSTART:20251102T090000
END:STANDARD
BEGIN:DAYLIGHT
TZOFFSETFROM:-0800
TZOFFSETTO:-0700
TZNAME:PDT
DTSTART:20260308T100000
END:DAYLIGHT
BEGIN:STANDARD
TZOFFSETFROM:-0700
TZOFFSETTO:-0800
TZNAME:PST
DTSTART:20261101T090000
END:STANDARD
BEGIN:DAYLIGHT
TZOFFSETFROM:-0800
TZOFFSETTO:-0700
TZNAME:PDT
DTSTART:20270314T100000
END:DAYLIGHT
BEGIN:STANDARD
TZOFFSETFROM:-0700
TZOFFSETTO:-0800
TZNAME:PST
DTSTART:20271107T090000
END:STANDARD
END:VTIMEZONE
BEGIN:VEVENT
DTSTART;TZID=America/Los_Angeles:20260326T190000
DTEND;TZID=America/Los_Angeles:20260326T190000
DTSTAMP:20260419T084437
CREATED:20260112T010507Z
LAST-MODIFIED:20260112T011708Z
UID:3082-1774551600-1774551600@canyons.ocbsa.org
SUMMARY:Koshare Chapter Meeting
DESCRIPTION:Wiatava Lodge 13 of the Order of the Arrow \nKoshare Chapter Meetings \n4th Thursday of Each Month \n7:00pm-9:00pm
URL:https://canyons.ocbsa.org/event/koshare-chapter-meeting-12/
LOCATION:Church of the Foothills\, 19211 Dodge Ave\, Santa An\, 92705\, United States
CATEGORIES:Meeting,Order of the Arrow
ATTACH;FMTTYPE=image/jpeg:https://canyons.ocbsa.org/wp-content/uploads/2025/02/Koshare.jpg
END:VEVENT
END:VCALENDAR